BEGIN:VCALENDAR
VERSION:2.0
PRODID:-//IIEA - ECPv5.1.6//NONSGML v1.0//EN
CALSCALE:GREGORIAN
METHOD:PUBLISH
X-WR-CALNAME:IIEA
X-ORIGINAL-URL:https://www.iiea.com
X-WR-CALDESC:Events for IIEA
BEGIN:VTIMEZONE
TZID:Europe/Dublin
BEGIN:DAYLIGHT
TZOFFSETFROM:+0000
TZOFFSETTO:+0100
TZNAME:IST
DTSTART:20200329T010000
END:DAYLIGHT
BEGIN:STANDARD
TZOFFSETFROM:+0100
TZOFFSETTO:+0000
TZNAME:GMT
DTSTART:20201025T010000
END:STANDARD
END:VTIMEZONE
BEGIN:VEVENT
DTSTART;TZID=Europe/Dublin:20201120T140000
DTEND;TZID=Europe/Dublin:20201120T150000
DTSTAMP:20201118T173015
CREATED:20201111T163240Z
LAST-MODIFIED:20201112T145519Z
UID:35271-1605880800-1605884400@www.iiea.com
SUMMARY:WEBINAR: Offshore Wind: The Future of Irish Energy?
DESCRIPTION:This address is the fifth event in the 2020 ESB/IIEA lecture series entitled\, REthink Energy. In her address\, Alla Weinstein will examine the important role that deepwater offshore wind energy is already playing around the world – and the role it will play in Ireland’s low-carbon energy future. She will discuss the ways that Ireland can harness its tremendous offshore wind resources by installing floating offshore wind farms off its Atlantic shoreline. Ms Weinstein will argue that this development will help Ireland reach its decarbonisation and renewable energy targets. She will show that the technology needed for floating offshore wind turbines is proven and market-ready\, and that\, by advancing research and technology development\, offshore wind could become a baseload energy source for Ireland. \nAbout the Speaker:\nAlla Weinstein isthe founder of Trident WindsInc\, a deep-water offshore wind project development company. She leads the company’s efforts in developing a commercial scale floating offshore wind farm off the coast of California. Ms Weinstein has been in the field of marine renewables for the last 20 years. She currently serves as Energy Appointee to the ‘Washington State Coastal Marine Advisory Council’ and is the US Department of Energy’s C3E Ambassador to the ‘Women in Clean Technology Initiative’. Ms Weinstein is an active member of the American Wind Energy Association and is a frequent speaker in the United States and Europe on the development of renewable energy. She served as the first President of the European Ocean Energy Association. \nTo register please\, follow this link and enter your details via Zoom: https://iiea.zoom.us/webinar/register/WN_YNtJXCJ1RGa5o4WBUfS3Nw \nPlease note IIEA events are free for members\, non-members will be asked to pay a fee. \nNo fee applies to events which are part of the following series: \n\nThe Future of the EU 27\n Development Matters Irish Aid\nYoung Professionals Network\n\nAttendance at these events is open to the public and free.
URL:https://www.iiea.com/event/webinar-offshore-wind-the-future-of-irish-energy/
CATEGORIES:Energy,Climate & Sustainability
ATTACH;FMTTYPE=image/jpeg:https://www.iiea.com/wp-content/uploads/2020/11/Alla-Weinstein-Speaker-thumbnail-2.jpg
END:VEVENT
BEGIN:VEVENT
DTSTART;TZID=Europe/Dublin:20201125T130000
DTEND;TZID=Europe/Dublin:20201125T140000
DTSTAMP:20201118T173015
CREATED:20201112T142555Z
LAST-MODIFIED:20201112T142759Z
UID:35290-1606309200-1606312800@www.iiea.com
SUMMARY:WEBINAR: Politics and Governance in the Horn of Africa
DESCRIPTION:In his address to the IIEA\, Special Envoy Onanga-Anyanga will offer analysis and insights on the current political situation in the Horn of Africa against the backdrop of the outbreak of COVID-19. The Special Envoy will discuss the impact of the ongoing pandemic\, efforts to strengthen governance\, and recent developments affecting peace and stability in the region. \nThis event is part of our Development Matters lecture series supported by Irish Aid and is open to the public and free to attend. \nAbout the Speaker: \nMr Onanga-Anyanga has had a long and distinguished career in the UN. Prior to his appointment as Special Envoy for the Horn of Africa in March 2019\, he held a variety of roles including Special Representative of the Secretary-General and Head of the United Nations Multidimensional Integrated Stabilization Mission in the Central African Republic (MINUSCA)\, Coordinator of the United Nations Headquarters response to the Boko Haram Crisis\, and Head of the United Nations Office in Burundi (BNUB). In addition\, Special Envoy Onanga-Anyanga has served at the Preparatory Commission of the Comprehensive Nuclear Test-Ban Treaty Organization and as First Counsellor for Disarmament and Political Affairs at the Permanent Mission of Gabon to the United Nations in New York. \nTo register please\, follow this link and enter your details via Zoom: https://iiea.zoom.us/webinar/register/WN_Am4hkDpaT3yGBbJ7onY2_A \nStandard IIEA events are free for members to attend. Non-members will be asked to pay a fee\, unless otherwise stated. \nNo fee applies to events which are part of the following series: \n\nGlobal Europe series\, supported by the Department of Foreign Affairs\nDevelopment Matters series\, supported by Irish Aid\nREthink Energy series\, supported by ESB\nYoung Professionals Network events\, which are open to students and young professionals between the ages of 20-35\n\nAttendance at these events is open to the public and free.
URL:https://www.iiea.com/event/politics-and-governance-in-the-horn-of-africa/
CATEGORIES:Geopolitics,UK
ATTACH;FMTTYPE=image/jpeg:https://www.iiea.com/wp-content/uploads/2020/11/Parfait-Onanga-Anyanga-Speaker-Card-1-e1605190787884.jpg
END:VEVENT
BEGIN:VEVENT
DTSTART;TZID=Europe/Dublin:20201127T130000
DTEND;TZID=Europe/Dublin:20201127T140000
DTSTAMP:20201118T173015
CREATED:20201117T105008Z
LAST-MODIFIED:20201117T105008Z
UID:35306-1606482000-1606485600@www.iiea.com
SUMMARY:WEBINAR: Generating Resilience and Growth in Germany and the EU
DESCRIPTION:Following the publication of the German Council of Economic Experts’ Annual Report on 11 November 2020\, Professor Feld will offer his analysis of the outlook for the German economy\, including within the wider context of the European Union. Professor Feld will discuss the economic impact of the COVID-19 pandemic at EU level and will further reflect on the considerable challenge of overcoming a severe recession while confronting the long-term issues of digitalisation\, climate action\, and demographic change. \nAbout the Speaker: \nProfessor Feld has been Chairman of the German Council of Economic Experts since March 2020 and is the current Director of the Walter Eucken Institute at the University of Freiburg where he lectures in economic and regulatory policy. Professor Feld is also a member of the Scientific Advisory Council to the Federal Ministry of Finance\, the German National Academy of Natural Sciences Leopoldina\, and the Independent Advisory Board to the German Stability Council. As an advisor to the German Ministry of Finance\, he played a crucial role in embedding the debt brake in the German Constitution. \nTo register please\, follow this link and enter your details via Zoom: https://iiea.zoom.us/webinar/register/WN_gCxq5yEFQaqrLQQoKw4Iiw \nStandard IIEA events are free for members to attend. Non-members will be asked to pay a fee\, unless otherwise stated. \nNo fee applies to events which are part of the following series: \n\nGlobal Europe series\, supported by the Department of Foreign Affairs\nDevelopment Matters series\, supported by Irish Aid\nREthink Energy series\, supported by ESB\nYoung Professionals Network events\, which are open to students and young professionals between the ages of 20-35\n\nAttendance at these events is open to the public and free.
URL:https://www.iiea.com/event/generating-resilience-and-growth-in-germany-and-the-eu/
CATEGORIES:Economics,EU Affairs
ATTACH;FMTTYPE=image/jpeg:https://www.iiea.com/wp-content/uploads/2020/11/Prof-Lars-P-Feld-Speaker-Card-1-e1605608976101.jpg
END:VEVENT
BEGIN:VEVENT
DTSTART;TZID=Europe/Dublin:20201201T130000
DTEND;TZID=Europe/Dublin:20201201T140000
DTSTAMP:20201118T173015
CREATED:20201118T154312Z
LAST-MODIFIED:20201118T154312Z
UID:35318-1606827600-1606831200@www.iiea.com
SUMMARY:WEBINAR: Regulating Digital Services and Digital Markets
DESCRIPTION:In her address\, Ms Canenbley will outline why new legislation is needed to respond to the way in which digital technologies have profoundly changed society. She will argue that although online platforms and digital services have brought many benefits for European citizens\, they have also created new risks and posed systematic problems. These problems include illegal online content such as hate speech or disinformation and problems relating to contestability\, fairness\, and the capacity of large online platforms to act as gatekeepers. The European Commission is preparing a Digital Services Act and Digital Markets Act\, both due to be unveiled on 2 December 2020\, to propose clear rules for Digital Services and Online Platforms in order to address these challenges. \nAbout the Speaker:\nChristiane Canenbley is the Deputy Head of Cabinet for the European Commission Executive Vice President for A Europe Fit for the Digital Age\, Margrethe Vestager. She was previously the Digital Single Market Adviser in the team of European Commission President Jean-Claude Juncker. In Jean-Claude Juncker’s team she was also in charge of the multiannual financial framework and for relations with Germany and Austria. Prior to this she worked in the Cabinet of the former European Commissioner for Agriculture\, Phil Hogan. \nTo register please\, follow this link and enter your details via Zoom: https://iiea.zoom.us/webinar/register/WN_gCxq5yEFQaqrLQQoKw4Iiw \nStandard IIEA events are free for members to attend. Non-members will be asked to pay a fee\, unless otherwise stated. \nNo fee applies to events which are part of the following series: \n\nGlobal Europe series\, supported by the Department of Foreign Affairs\nDevelopment Matters series\, supported by Irish Aid\nREthink Energy series\, supported by ESB\nYoung Professionals Network events\, which are open to students and young professionals between the ages of 20-35\n\nAttendance at these events is open to the public and free.
URL:https://www.iiea.com/event/webinar-regulating-digital-services-and-digital-markets/
CATEGORIES:Digital,EU Affairs
ATTACH;FMTTYPE=image/jpeg:https://www.iiea.com/wp-content/uploads/2020/11/Christiane-Canenbley-thumbnail.jpg
END:VEVENT
BEGIN:VEVENT
DTSTART;TZID=Europe/Dublin:20201202T140000
DTEND;TZID=Europe/Dublin:20201202T150000
DTSTAMP:20201118T173015
CREATED:20201118T114527Z
LAST-MODIFIED:20201118T154654Z
UID:35313-1606917600-1606921200@www.iiea.com
SUMMARY:WEBINAR: U.S.-China relations in the wake of the 2020 elections
DESCRIPTION:In his address to the IIEA\, David Dollar will reflect on the current state of U.S.-China relations. He will argue that although the decline in relations pre-dates President Trump\, it has been accelerated during his presidency. He will analyse the problems in the relationship with a particular focus on trade\, technology\, and global public goods. \nAbout the Speaker:\nDavid Dollar is a Senior Fellow in the John L. Thornton China Center at the Brook-ings Institution. From 2009 to 2013 Dollar was the U.S. Treasury’s Economic and Financial Emissary to China\, based in Beijing\, facilitating the macroeconomic and financial policy dialogue between the U.S. and China. Prior to joining the Treasury\, Dr Dollar worked 20 years for the World Bank\, serving as Country Director for China and Mongolia\, based in Beijing (2004-2009). His most recent book is China 2049\, co-authored with economists from Peking University. Dr Dollar also worked in the World Bank’s research department. His publications focus on economic reform in China\, globalisation\, and economic growth. He also taught economics at UCLA\, during which time he spent a semester in Beijing at the Graduate School of the Chinese Academy of Social Sciences (1986). He has a PhD in economics from New York University and a B.A. in Chinese history and language from Dartmouth College. \nTo register please\, follow this link and enter your details via Zoom: https://iiea.zoom.us/webinar/register/WN_gCxq5yEFQaqrLQQoKw4Iiw \nStandard IIEA events are free for members to attend. Non-members will be asked to pay a fee\, unless otherwise stated. \nNo fee applies to events which are part of the following series: \n\nGlobal Europe series\, supported by the Department of Foreign Affairs\nDevelopment Matters series\, supported by Irish Aid\nREthink Energy series\, supported by ESB\nYoung Professionals Network events\, which are open to students and young professionals between the ages of 20-35\n\nAttendance at these events is open to the public and free.
URL:https://www.iiea.com/event/webinar-u-s-china-relations-in-the-wake-of-the-2020-elections/
CATEGORIES:Geopolitics
ATTACH;FMTTYPE=image/jpeg:https://www.iiea.com/wp-content/uploads/2020/11/David-Dollar-thumbnail.jpg
END:VEVENT
END:VCALENDAR